BEGIN:VCALENDAR
VERSION:2.0
PRODID:-//The Brighton Events//www.brighton.eventstream.tech//
CALSCALE:GREGORIAN
METHOD:PUBLISH
BEGIN:VEVENT
SUMMARY:Fibonacci Quartet
DTSTART:20260507T193000Z
DTEND:20260507T213000Z
DTSTAMP:20260420T112355Z
UID:fibonacci-quartet-2026-05-07@www.brighton.eventstream.tech
DESCRIPTION:The Fibonacci Quartet performs their own arrangements of Morav
 ian folk songs\, Janáček’s fervent String Quartet No. 2 ‘Intimate Le
 tters’ and Schumann’s radiant String Quartet No. 3 in A major....\n\nM
 ore info: https://www.brighton.eventstream.tech/events/fibonacci-quartet-2
 026-05-07/
LOCATION:Brighton Dome Corn Exchange\, Church Street\, Brighton\, BN1 1UE\
 , The Brighton\, UK
ORGANIZER:CN=brighton_venues_brightondome
URL:https://www.brighton.eventstream.tech/events/fibonacci-quartet-2026-05
 -07/
END:VEVENT
END:VCALENDAR
