BEGIN:VCALENDAR
VERSION:2.0
PRODID:-//The Brighton Events//www.brighton.eventstream.tech//
CALSCALE:GREGORIAN
METHOD:PUBLISH
BEGIN:VEVENT
SUMMARY:I’m Sorry I Haven’t A Clue
DTSTART:20260420T190000Z
DTEND:20260420T210000Z
DTSTAMP:20260420T112549Z
UID:im-sorry-i-havent-a-clue-2026-04-20@www.brighton.eventstream.tech
DESCRIPTION:Join chairman Jack Dee\, a panel of top comedians plus pianist
  Colin Sell for an unmissable evening of inspired nonsense“The Greatest 
 Radio Comedy of All Time” The Radio Times“Whether the teams are singin
 g the words of one song to the tune of another...\n\nMore info: https://ww
 w.brighton.eventstream.tech/events/im-sorry-i-havent-a-clue-2026-04-20/
LOCATION:Brighton Dome Concert Hall\, Church Street\, Brighton\, BN1 1UE\,
  The Brighton\, UK
ORGANIZER:CN=brighton_venues_brightondome
URL:https://www.brighton.eventstream.tech/events/im-sorry-i-havent-a-clue-
 2026-04-20/
END:VEVENT
END:VCALENDAR
