BEGIN:VCALENDAR
VERSION:2.0
PRODID:-//The Brighton Events//www.brighton.eventstream.tech//
CALSCALE:GREGORIAN
METHOD:PUBLISH
BEGIN:VEVENT
SUMMARY:Josh Widdicombe: Not My Cup of Tea
DTSTART:20260420T193000Z
DTEND:20260420T213000Z
DTSTAMP:20260420T112712Z
UID:josh-widdicombe-not-my-cup-of-tea-2026-04-20@www.brighton.eventstream.
 tech
DESCRIPTION:Josh Widdicombe is back on tour\, not again! By now he has alm
 ost certainly mastered the art of stand-up\, either that or he has wasted 
 the last 15 years of his life. Come along and decide for yourself. Expect 
 it to be shorter and with lower production va...\n\nMore info: https://www
 .brighton.eventstream.tech/events/josh-widdicombe-not-my-cup-of-tea-2026-0
 4-20/
LOCATION:Brighton Dome Concert Hall\, Church Street\, Brighton\, BN1 1UE\,
  The Brighton\, UK
ORGANIZER:CN=brighton_venues_brightondome
URL:https://www.brighton.eventstream.tech/events/josh-widdicombe-not-my-cu
 p-of-tea-2026-04-20/
END:VEVENT
END:VCALENDAR
