BEGIN:VCALENDAR
VERSION:2.0
PRODID:-//The Brighton Events//www.brighton.eventstream.tech//
CALSCALE:GREGORIAN
METHOD:PUBLISH
BEGIN:VEVENT
SUMMARY:Live at Brighton Dome
DTSTART:20260420T193000Z
DTEND:20260420T213000Z
DTSTAMP:20260420T111003Z
UID:live-at-brighton-dome-2026-04-20@www.brighton.eventstream.tech
DESCRIPTION:Brighton's biggest comedy night showcasing up-and-coming stars
  alongside comedy's best known names. Previous line-ups have included Jame
 s Acaster\, Sam Campbell\, Ed Gamble\, Lucy Beaumont\, Rhys James and many
  more! Line-up to be announced soon!...\n\nMore info: https://www.brighton
 .eventstream.tech/events/live-at-brighton-dome-2026-04-20/
LOCATION:Brighton Dome Concert Hall\, Church Street\, Brighton\, BN1 1UE\,
  The Brighton\, UK
ORGANIZER:CN=brighton_venues_brightondome
URL:https://www.brighton.eventstream.tech/events/live-at-brighton-dome-202
 6-04-20/
END:VEVENT
END:VCALENDAR
