BEGIN:VCALENDAR
VERSION:2.0
PRODID:-//The Brighton Events//www.brighton.eventstream.tech//
CALSCALE:GREGORIAN
METHOD:PUBLISH
BEGIN:VEVENT
SUMMARY:Michelle de Swarte: The Afters EXTRA DATE ADDED
DTSTART:20260420T193000Z
DTEND:20260420T213000Z
DTSTAMP:20260420T110033Z
UID:michelle-de-swarte-the-afters-extra-date-added-2026-04-20@www.brighton
 .eventstream.tech
DESCRIPTION:Michelle de Swarte is back with her entourage of trademark raz
 or-sharp wit and no-holds-barred storytelling. After the main event's high
 s and lows\, Michelle wonders what to do after the party....\n\nMore info:
  https://www.brighton.eventstream.tech/events/michelle-de-swarte-the-after
 s-extra-date-added-2026-04-20/
LOCATION:Brighton Dome Corn Exchange\, Church Street\, Brighton\, BN1 1UE\
 , The Brighton\, UK
ORGANIZER:CN=brighton_venues_brightondome
URL:https://www.brighton.eventstream.tech/events/michelle-de-swarte-the-af
 ters-extra-date-added-2026-04-20/
END:VEVENT
END:VCALENDAR
