BEGIN:VCALENDAR
VERSION:2.0
PRODID:-//The Brighton Events//www.brighton.eventstream.tech//
CALSCALE:GREGORIAN
METHOD:PUBLISH
BEGIN:VEVENT
SUMMARY:Richard Ayoade - Afterthoughts
DTSTART:20260702T183000Z
DTEND:20260702T210000Z
DTSTAMP:20260420T111303Z
UID:richard-ayoade-afterthoughts-2026-07-02@www.brighton.eventstream.tech
DESCRIPTION:Join BAFTA-winning actor\, comedian\, director\, and writer Ri
 chard Ayoade for an evening of reflections as he shares insights from his 
 latest book\, Afterthoughts\, or Some Pistachios Won't Open: Wisdom for th
 e Unreflective....\n\nMore info: https://www.brighton.eventstream.tech/eve
 nts/richard-ayoade-afterthoughts-2026-07-02/
LOCATION:Theatre Royal Brighton\, New Road\, Brighton\, BN1 1SD\, The Brig
 hton\, UK
ORGANIZER:CN=brighton_venues_atg
URL:https://www.brighton.eventstream.tech/events/richard-ayoade-afterthoug
 hts-2026-07-02/
END:VEVENT
END:VCALENDAR
