BEGIN:VCALENDAR
VERSION:2.0
PRODID:-//The Brighton Events//www.brighton.eventstream.tech//
CALSCALE:GREGORIAN
METHOD:PUBLISH
BEGIN:VEVENT
SUMMARY:Sea Life Brighton - Standard Admission
DTSTART:20260420T090000Z
DTEND:20260420T120000Z
DTSTAMP:20260420T111040Z
UID:sea-life-brighton-standard-admission-2026-04-20@www.brighton.eventstre
 am.tech
DESCRIPTION:Sea Life Brighton - Standard Admission Taking place at SEA LIF
 E Brighton in Brighton. Event date: April 20\, 2026....\n\nMore info: http
 s://www.brighton.eventstream.tech/events/sea-life-brighton-standard-admiss
 ion-2026-04-20/
LOCATION:SEA LIFE Brighton\, Marine Parade\, Brighton\, BN21TB\, The Brigh
 ton\, UK
ORGANIZER:CN=ticketmaster_api
URL:https://www.brighton.eventstream.tech/events/sea-life-brighton-standar
 d-admission-2026-04-20/
END:VEVENT
END:VCALENDAR
