BEGIN:VCALENDAR
VERSION:2.0
PRODID:-//The Brighton Events//www.brighton.eventstream.tech//
CALSCALE:GREGORIAN
METHOD:PUBLISH
BEGIN:VEVENT
SUMMARY:Seann Walsh: This Is Torture
DTSTART:20260420T193000Z
DTEND:20260420T213000Z
DTSTAMP:20260420T112038Z
UID:seann-walsh-this-is-torture-2026-04-20@www.brighton.eventstream.tech
DESCRIPTION:After his sell-out 2023 tour\, the UK’s dishevelled king of 
 stand-up\, award-winning Seann Walsh returns with a brand-new hour of side
 -splitting comedy....\n\nMore info: https://www.brighton.eventstream.tech/
 events/seann-walsh-this-is-torture-2026-04-20/
LOCATION:Brighton Dome Corn Exchange\, Church Street\, Brighton\, BN1 1UE\
 , The Brighton\, UK
ORGANIZER:CN=brighton_venues_brightondome
URL:https://www.brighton.eventstream.tech/events/seann-walsh-this-is-tortu
 re-2026-04-20/
END:VEVENT
END:VCALENDAR
