BEGIN:VCALENDAR
VERSION:2.0
PRODID:-//The Brighton Events//www.brighton.eventstream.tech//
CALSCALE:GREGORIAN
METHOD:PUBLISH
BEGIN:VEVENT
SUMMARY:You’ve Got to Laugh
DTSTART:20260425T193000Z
DTEND:20260425T213000Z
DTSTAMP:20260420T112355Z
UID:youve-got-to-laugh-2026-04-25-1@www.brighton.eventstream.tech
DESCRIPTION:Introducing the first ever comedy programme to BIAF!...\n\nMor
 e info: https://www.brighton.eventstream.tech/events/youve-got-to-laugh-20
 26-04-25-1/
LOCATION:Brighton Dome Studio Theatre\, Church Street\, Brighton\, BN1 1UE
 \, The Brighton\, UK
ORGANIZER:CN=brighton_venues_brightondome
URL:https://www.brighton.eventstream.tech/events/youve-got-to-laugh-2026-0
 4-25-1/
END:VEVENT
END:VCALENDAR
